BEGIN:VCALENDAR
VERSION:2.0
PRODID:-//ChamberMaster//Event Calendar 2.0//EN
METHOD:PUBLISH
X-PUBLISHED-TTL:P1H
REFRESH-INTERVAL:P1H
CALSCALE:GREGORIAN
BEGIN:VTIMEZONE
TZID:America/Chicago
BEGIN:DAYLIGHT
RRULE:FREQ=YEARLY;BYMONTH=3;BYDAY=2SU
DTSTART:20070101T000000
TZOFFSETFROM:-0600
TZOFFSETTO:-0500
TZNAME:Central Daylight Time
END:DAYLIGHT
BEGIN:STANDARD
RRULE:FREQ=YEARLY;BYMONTH=11;BYDAY=1SU
DTSTART:20070101T000000
TZOFFSETFROM:-0500
TZOFFSETTO:-0600
TZNAME:Central Standard Time
END:STANDARD
END:VTIMEZONE
BEGIN:VEVENT
DTSTART;TZID=America/Chicago:20260901T090000
DTEND;TZID=America/Chicago:20260901T150000
X-MICROSOFT-CDO-ALLDAYEVENT:FALSE
SUMMARY:Membership Sales Training Seminar
DESCRIPTION:p.p1 {margin: 0.0px 0.0px 0.0px 0.0px\; font: 13.9px 'Times New Roman'\; color: #000000} p.p2 {margin: 0.0px 0.0px 0.0px 0.0px\; font: 12.0px 'Times New Roman'\; color: #000000} p.p3 {margin: 0.0px 0.0px 0.0px 0.0px\; font: 13.4px 'Times New Roman'\; color: #000000} span.s1 {font: 10.1px Helvetica} span.s2 {font: 10.1px Arial}\nJoin Shari Pash as she presents:Membership Staff Strategy Lab From Transactions   Relationships   Sustainable GrowthCulture of MembershipTopics  What does a "culture of membership" really mean for your Chamber?  Membership is not a department it's an organizational mindset  Members stay when they feel understood\, supported\, and connected not because of a renewal invoice.  Member lifecycle: Prospect   Join   Engage   Renew   Advocate  Shifting from selling benefits to solving problems through investmentOur Data Tells the StoryTopics  How to identify and track the right custom fields and user defined type fields  Ways to connect data to recruitment\, retention\, and engagement strategies  How to use data to demonstrate that your organization is essential   not just relevant   to your members  How to personalize your messaging and member touchpoints using the information you already haveSustainable Member RecruitmentTopics  Uncover strategic approaches to attract and engage prospective members and investors\, while building a vibrant\, thriving community.  Learn how to foster a culture of commitment and engagement at every stage of membership.  Explore effective onboarding strategies to make a lasting impact on both new and renewing members.  Understand the power of attention economics and how to craft messaging that boosts engagement and recruitment.  Discover practical tools and techniques to create value-driven\, loyal\, and actively engaged members.Engagement and Retention SystemsTopics  First 90 days matter most  Onboarding journey  "Micro-moments" of connection  Staff or volunteer ownershipPractical Training BlockRotate quick skills:  Handling objections confidently  Renewal conversations  LinkedIn prospecting  Time blocking for sales focus  CRM best practices  "What will we do differently starting tomorrow?"
X-ALT-DESC;FMTTYPE=text/html:<!DOCTYPE html><html><head><title></title></head><body aria-disabled="false"><style type="text/css">\np.p1 {margin: 0.0px 0.0px 0.0px 0.0px\; font: 13.9px 'Times New Roman'\; color: #000000} p.p2 {margin: 0.0px 0.0px 0.0px 0.0px\; font: 12.0px 'Times New Roman'\; color: #000000} p.p3 {margin: 0.0px 0.0px 0.0px 0.0px\; font: 13.4px 'Times New Roman'\; color: #000000} span.s1 {font: 10.1px Helvetica} span.s2 {font: 10.1px Arial}\n</style><p><strong fr-original-style="" style="font-weight: 700\;">Join&nbsp\;</strong><a fr-original-style="" href="https://www.sharipash.com/about-us/" style="user-select: auto\;"><strong fr-original-style="" style="font-weight: 700\;">Shari Pash</strong></a> as she presents:</p><p style="text-align: center\;"><strong fr-original-style="" style="font-weight: 700\;">Membership Staff Strategy Lab&nbsp\;</strong></p><p style="text-align: center\;"><em><strong fr-original-style="" style="font-weight: 700\;">From Transactions &rarr\; Relationships &rarr\; Sustainable Growth</strong></em></p><p><strong fr-original-style="" style="font-weight: 700\;">Culture of Membership</strong></p><p><strong fr-original-style="" style="font-weight: 700\;">Topics</strong></p><p style="margin-left: 20px\;">&bull\; What does a &ldquo\;culture of membership&rdquo\; really mean for your Chamber?</p><p style="margin-left: 20px\;">&bull\; Membership is not a department&mdash\;it&rsquo\;s an organizational mindset</p><p style="margin-left: 20px\;">&bull\; Members stay when they feel understood\, supported\, and connected&mdash\;not because of a renewal invoice.</p><p style="margin-left: 20px\;">&bull\; Member lifecycle: Prospect &rarr\; Join &rarr\; Engage &rarr\; Renew &rarr\; Advocate</p><p style="margin-left: 20px\;">&bull\; Shifting from selling benefits to solving problems through investment</p><p><strong fr-original-style="" style="font-weight: 700\;">Our Data Tells the Story</strong></p><p><strong fr-original-style="" style="font-weight: 700\;">Topics</strong></p><p style="margin-left: 20px\;">&bull\; How to identify and track the right custom fields and user defined type fields</p><p style="margin-left: 20px\;">&bull\; Ways to connect data to recruitment\, retention\, and engagement strategies</p><p style="margin-left: 20px\;">&bull\; How to use data to demonstrate that your organization is essential &mdash\; not just relevant &mdash\; to your members</p><p style="margin-left: 20px\;">&bull\; How to personalize your messaging and member touchpoints using the information you already have</p><p><strong fr-original-style="" style="font-weight: 700\;">Sustainable Member Recruitment</strong></p><p><strong fr-original-style="" style="font-weight: 700\;">Topics</strong></p><p style="margin-left: 20px\;">&bull\; Uncover strategic approaches to attract and engage prospective members and investors\, while building a vibrant\, thriving community.</p><p style="margin-left: 20px\;">&bull\; Learn how to foster a culture of commitment and engagement at every stage of membership.</p><p style="margin-left: 20px\;">&bull\; Explore effective onboarding strategies to make a lasting impact on both new and renewing members.</p><p style="margin-left: 20px\;">&bull\; Understand the power of attention economics and how to craft messaging that boosts engagement and recruitment.</p><p style="margin-left: 20px\;">&bull\; Discover practical tools and techniques to create value-driven\, loyal\, and actively engaged members.</p><p><strong fr-original-style="" style="font-weight: 700\;">Engagement and Retention Systems</strong></p><p><strong fr-original-style="" style="font-weight: 700\;">Topics</strong></p><p style="margin-left: 20px\;">&bull\; First 90 days matter most</p><p style="margin-left: 20px\;">&bull\;&nbsp\;Onboarding journey</p><p style="margin-left: 20px\;">&bull\;&nbsp\;&ldquo\;Micro-moments&rdquo\; of connection</p><p style="margin-left: 20px\;">&bull\; Staff or volunteer ownership</p><p><strong fr-original-style="" style="font-weight: 700\;">Practical Training Block</strong></p><p>Rotate quick skills:</p><p style="margin-left: 20px\;">&bull\; Handling objections confidently</p><p style="margin-left: 20px\;">&bull\;&nbsp\;Renewal conversations</p><p style="margin-left: 20px\;">&bull\;&nbsp\;LinkedIn prospecting</p><p style="margin-left: 20px\;">&bull\;&nbsp\;Time blocking for sales focus</p><p style="margin-left: 20px\;">&bull\;&nbsp\;CRM best practices</p><p style="margin-left: 20px\;">&bull\; &ldquo\;What will we do differently starting tomorrow?&rdquo\;</p></body></html>
LOCATION:222 Wauponsee Morris IL 60450
UID:e.3988.1416430
SEQUENCE:3
DTSTAMP:20260424T133138Z
URL:https://business.iacce.org/calendar/Details/membership-sales-training-seminar-1674237?sourceTypeId=Hub
END:VEVENT
END:VCALENDAR
